BEGIN:VCALENDAR
VERSION:2.0
PRODID:-//CDNI - ECPv6.15.18//NONSGML v1.0//EN
CALSCALE:GREGORIAN
METHOD:PUBLISH
X-WR-CALNAME:CDNI
X-ORIGINAL-URL:https://www.cdni-iwt.org
X-WR-CALDESC:Évènements pour CDNI
REFRESH-INTERVAL;VALUE=DURATION:PT1H
X-Robots-Tag:noindex
X-PUBLISHED-TTL:PT1H
BEGIN:VTIMEZONE
TZID:Europe/Paris
BEGIN:DAYLIGHT
TZOFFSETFROM:+0100
TZOFFSETTO:+0200
TZNAME:CEST
DTSTART:20160327T010000
END:DAYLIGHT
BEGIN:STANDARD
TZOFFSETFROM:+0200
TZOFFSETTO:+0100
TZNAME:CET
DTSTART:20161030T010000
END:STANDARD
BEGIN:DAYLIGHT
TZOFFSETFROM:+0100
TZOFFSETTO:+0200
TZNAME:CEST
DTSTART:20170326T010000
END:DAYLIGHT
BEGIN:STANDARD
TZOFFSETFROM:+0200
TZOFFSETTO:+0100
TZNAME:CET
DTSTART:20171029T010000
END:STANDARD
BEGIN:DAYLIGHT
TZOFFSETFROM:+0100
TZOFFSETTO:+0200
TZNAME:CEST
DTSTART:20180325T010000
END:DAYLIGHT
BEGIN:STANDARD
TZOFFSETFROM:+0200
TZOFFSETTO:+0100
TZNAME:CET
DTSTART:20181028T010000
END:STANDARD
END:VTIMEZONE
BEGIN:VEVENT
DTSTART;TZID=Europe/Paris:20171004T093000
DTEND;TZID=Europe/Paris:20171004T170000
DTSTAMP:20260421T102224
CREATED:20170727T072115Z
LAST-MODIFIED:20170922T084501Z
UID:2907-1507109400-1507136400@www.cdni-iwt.org
SUMMARY:Atelier international - Partie B
DESCRIPTION:Atelier international relatif à la mise en œuvre de la partie B de la CDNI \n! Sur invitation !\nPROJET D’ORDRE DU JOUR  : cdnig17_29fr_a \nENTWURF EINER TAGESORDNUNG : cdnig17_29de_a \nONTWERPAGENDA: cdnig17_29nl_a \n 
URL:https://www.cdni-iwt.org/event/atelier-international/
LOCATION:Palais du Rhin\, 2\, place de la République\, STRASBOURG\, 67000\, France
CATEGORIES:CDNI/G
END:VEVENT
END:VCALENDAR