BEGIN:VCALENDAR
VERSION:2.0
PRODID:-//CDNI - ECPv6.15.18//NONSGML v1.0//EN
CALSCALE:GREGORIAN
METHOD:PUBLISH
X-WR-CALNAME:CDNI
X-ORIGINAL-URL:https://www.cdni-iwt.org
X-WR-CALDESC:Évènements pour CDNI
REFRESH-INTERVAL;VALUE=DURATION:PT1H
X-Robots-Tag:noindex
X-PUBLISHED-TTL:PT1H
BEGIN:VTIMEZONE
TZID:Europe/Paris
BEGIN:DAYLIGHT
TZOFFSETFROM:+0100
TZOFFSETTO:+0200
TZNAME:CEST
DTSTART:20140330T010000
END:DAYLIGHT
BEGIN:STANDARD
TZOFFSETFROM:+0200
TZOFFSETTO:+0100
TZNAME:CET
DTSTART:20141026T010000
END:STANDARD
BEGIN:DAYLIGHT
TZOFFSETFROM:+0100
TZOFFSETTO:+0200
TZNAME:CEST
DTSTART:20150329T010000
END:DAYLIGHT
BEGIN:STANDARD
TZOFFSETFROM:+0200
TZOFFSETTO:+0100
TZNAME:CET
DTSTART:20151025T010000
END:STANDARD
BEGIN:DAYLIGHT
TZOFFSETFROM:+0100
TZOFFSETTO:+0200
TZNAME:CEST
DTSTART:20160327T010000
END:DAYLIGHT
BEGIN:STANDARD
TZOFFSETFROM:+0200
TZOFFSETTO:+0100
TZNAME:CET
DTSTART:20161030T010000
END:STANDARD
END:VTIMEZONE
BEGIN:VEVENT
DTSTART;TZID=Europe/Paris:20151118T140000
DTEND;TZID=Europe/Paris:20151118T173000
DTSTAMP:20260421T120213
CREATED:20151105T081409Z
LAST-MODIFIED:20151105T081409Z
UID:1427-1447855200-1447867800@www.cdni-iwt.org
SUMMARY:Groupe d’experts nationaux ad hoc (CDNI/G) : groupe de rédaction pour le traitement des FAQ
DESCRIPTION:
URL:https://www.cdni-iwt.org/event/groupe-dexperts-nationaux-ad-hoc-cdnig-groupe-de-redaction-pour-le-traitement-des-faq/
END:VEVENT
END:VCALENDAR